Package: DMRcaller Version: 1.40.0 Command: /Library/Frameworks/R.framework/Resources/bin/R CMD check --install=check:DMRcaller.install-out.txt --library=/Library/Frameworks/R.framework/Resources/library --no-vignettes --timings DMRcaller_1.40.0.tar.gz StartedAt: 2025-10-14 03:01:10 -0400 (Tue, 14 Oct 2025) EndedAt: 2025-10-14 03:13:42 -0400 (Tue, 14 Oct 2025) EllapsedTime: 752.5 seconds RetCode: 0 Status: OK CheckDir: DMRcaller.Rcheck Warnings: 0