Package: DMCHMM Version: 1.30.1 Command: /home/biocbuild/R/R/bin/R CMD check --install=check:DMCHMM.install-out.txt --library=/home/biocbuild/R/R/site-library --no-vignettes --timings DMCHMM_1.30.1.tar.gz StartedAt: 2025-10-14 08:35:21 -0000 (Tue, 14 Oct 2025) EndedAt: 2025-10-14 08:44:56 -0000 (Tue, 14 Oct 2025) EllapsedTime: 574.5 seconds RetCode: 0 Status: OK CheckDir: DMCHMM.Rcheck Warnings: 0