Package: DMCHMM Version: 1.30.1 Command: /home/biocbuild/R/R/bin/R CMD build --keep-empty-dirs --no-resave-data DMCHMM StartedAt: 2025-10-14 00:24:48 -0000 (Tue, 14 Oct 2025) EndedAt: 2025-10-14 00:26:34 -0000 (Tue, 14 Oct 2025) EllapsedTime: 106.0 seconds RetCode: 0 Status: OK PackageFile: DMCHMM_1.30.1.tar.gz PackageFileSize: 744.3 KiB