Package: DMCFB Version: 1.22.1 Command: /Library/Frameworks/R.framework/Resources/bin/R CMD build --keep-empty-dirs --no-resave-data DMCFB StartedAt: 2025-10-13 23:25:43 -0400 (Mon, 13 Oct 2025) EndedAt: 2025-10-13 23:27:32 -0400 (Mon, 13 Oct 2025) EllapsedTime: 108.7 seconds RetCode: 0 Status: OK PackageFile: DMCFB_1.22.1.tar.gz PackageFileSize: 1.066 MiB