Package: DExMA Version: 1.16.0 Command: /home/biocbuild/bbs-3.21-bioc/R/bin/R CMD check --install=check:DExMA.install-out.txt --library=/home/biocbuild/bbs-3.21-bioc/R/site-library --timings DExMA_1.16.0.tar.gz StartedAt: 2025-10-15 22:37:30 -0400 (Wed, 15 Oct 2025) EndedAt: 2025-10-15 22:41:44 -0400 (Wed, 15 Oct 2025) EllapsedTime: 254.2 seconds RetCode: 0 Status: OK CheckDir: DExMA.Rcheck Warnings: 0