Package: DExMA Version: 1.16.0 Command: /Library/Frameworks/R.framework/Resources/bin/R CMD check --install=check:DExMA.install-out.txt --library=/Library/Frameworks/R.framework/Resources/library --no-vignettes --timings DExMA_1.16.0.tar.gz StartedAt: 2025-10-14 19:34:35 -0400 (Tue, 14 Oct 2025) EndedAt: 2025-10-14 19:39:19 -0400 (Tue, 14 Oct 2025) EllapsedTime: 283.6 seconds RetCode: 0 Status: OK CheckDir: DExMA.Rcheck Warnings: 0