Package: DExMA Version: 1.16.0 Maintainer: Juan Antonio Villatoro-GarcĂ­a MaintainerEmail: juanantoniovillatorogarcia at gmail.com git_url: https://git.bioconductor.org/packages/DExMA git_branch: RELEASE_3_21 git_last_commit: 9d4ff05 git_last_commit_date: 2025-04-15 12:29:30 -0400 (Tue, 15 Apr 2025)