Package: DEsubs Version: 1.34.0 Command: /home/biocbuild/R/R/bin/R CMD INSTALL DEsubs StartedAt: 2025-10-13 20:33:36 -0000 (Mon, 13 Oct 2025) EndedAt: 2025-10-13 20:34:17 -0000 (Mon, 13 Oct 2025) EllapsedTime: 40.8 seconds RetCode: 0 Status: OK