Package: DEsubs Version: 1.34.0 Command: /home/biocbuild/R/R/bin/R CMD build --keep-empty-dirs --no-resave-data DEsubs StartedAt: 2025-10-14 00:19:22 -0000 (Tue, 14 Oct 2025) EndedAt: 2025-10-14 00:20:51 -0000 (Tue, 14 Oct 2025) EllapsedTime: 89.0 seconds RetCode: 0 Status: OK PackageFile: DEsubs_1.34.0.tar.gz PackageFileSize: 3.958 MiB