Package: DEsubs Version: 1.34.0 Command: /Library/Frameworks/R.framework/Resources/bin/R CMD INSTALL DEsubs StartedAt: 2025-04-21 15:13:26 -0400 (Mon, 21 Apr 2025) EndedAt: 2025-04-21 15:13:37 -0400 (Mon, 21 Apr 2025) EllapsedTime: 11.6 seconds RetCode: 0 Status: OK