Package: DEqMS Version: 1.28.0 Command: /home/biocbuild/bbs-3.22-bioc/R/bin/R CMD check --install=check:DEqMS.install-out.txt --library=/home/biocbuild/bbs-3.22-bioc/R/site-library --timings DEqMS_1.28.0.tar.gz StartedAt: 2025-11-06 22:54:01 -0500 (Thu, 06 Nov 2025) EndedAt: 2025-11-06 22:57:37 -0500 (Thu, 06 Nov 2025) EllapsedTime: 216.2 seconds RetCode: 0 Status: OK CheckDir: DEqMS.Rcheck Warnings: 0