Package: DEqMS Version: 1.28.0 Command: /Library/Frameworks/R.framework/Resources/bin/R CMD INSTALL DEqMS StartedAt: 2025-11-06 15:05:09 -0500 (Thu, 06 Nov 2025) EndedAt: 2025-11-06 15:05:12 -0500 (Thu, 06 Nov 2025) EllapsedTime: 3.7 seconds RetCode: 0 Status: OK