Package: DEqMS Version: 1.28.0 Command: /Library/Frameworks/R.framework/Resources/bin/R CMD build --keep-empty-dirs --no-resave-data DEqMS StartedAt: 2025-11-06 16:11:15 -0500 (Thu, 06 Nov 2025) EndedAt: 2025-11-06 16:12:04 -0500 (Thu, 06 Nov 2025) EllapsedTime: 48.5 seconds RetCode: 0 Status: OK PackageFile: DEqMS_1.28.0.tar.gz PackageFileSize: 2.306 MiB