Package: DEXSeq Version: 1.54.1 Command: /home/biocbuild/bbs-3.21-bioc/R/bin/R CMD check --install=check:DEXSeq.install-out.txt --library=/home/biocbuild/bbs-3.21-bioc/R/site-library --timings DEXSeq_1.54.1.tar.gz StartedAt: 2025-10-15 22:37:35 -0400 (Wed, 15 Oct 2025) EndedAt: 2025-10-15 22:43:55 -0400 (Wed, 15 Oct 2025) EllapsedTime: 379.4 seconds RetCode: 0 Status: OK CheckDir: DEXSeq.Rcheck Warnings: 0