Package: DEXSeq Version: 1.54.1 Command: /Library/Frameworks/R.framework/Resources/bin/R CMD check --install=check:DEXSeq.install-out.txt --library=/Library/Frameworks/R.framework/Resources/library --no-vignettes --timings DEXSeq_1.54.1.tar.gz StartedAt: 2025-10-14 19:36:54 -0400 (Tue, 14 Oct 2025) EndedAt: 2025-10-14 19:43:02 -0400 (Tue, 14 Oct 2025) EllapsedTime: 368.5 seconds RetCode: 0 Status: OK CheckDir: DEXSeq.Rcheck Warnings: 0