Package: DESpace Version: 2.2.1 Command: /home/biocbuild/bbs-3.22-bioc/R/bin/R CMD check --install=check:DESpace.install-out.txt --library=/home/biocbuild/bbs-3.22-bioc/R/site-library --timings DESpace_2.2.1.tar.gz StartedAt: 2025-11-09 23:07:45 -0500 (Sun, 09 Nov 2025) EndedAt: 2025-11-09 23:25:49 -0500 (Sun, 09 Nov 2025) EllapsedTime: 1083.9 seconds RetCode: 0 Status: OK CheckDir: DESpace.Rcheck Warnings: 0