Package: DEScan2 Version: 1.28.0 Command: chmod a+r DEScan2 -R && E:\biocbuild\bbs-3.21-bioc\R\bin\R.exe CMD build --keep-empty-dirs --no-resave-data DEScan2 StartedAt: 2025-08-14 18:35:04 -0400 (Thu, 14 Aug 2025) EndedAt: 2025-08-14 18:37:25 -0400 (Thu, 14 Aug 2025) EllapsedTime: 141.4 seconds RetCode: 0 Status: OK PackageFile: DEScan2_1.28.0.tar.gz PackageFileSize: 2.404 MiB