Package: DEScan2 Version: 1.28.0 Command: rm -rf DEScan2.buildbin-libdir && mkdir DEScan2.buildbin-libdir && /Users/biocbuild/BBS/utils/build-universal.sh DEScan2_1.28.0.tar.gz /Library/Frameworks/R.framework/Resources/bin/R DEScan2.buildbin-libdir StartedAt: 2025-04-21 22:32:47 -0400 (Mon, 21 Apr 2025) EndedAt: 2025-04-21 22:33:12 -0400 (Mon, 21 Apr 2025) EllapsedTime: 24.5 seconds RetCode: 0 Status: OK PackageFile: DEScan2_1.28.0.tgz PackageFileSize: 2.602 MiB