Package: DEP Version: 1.32.0 Command: /Library/Frameworks/R.framework/Resources/bin/R CMD check --install=check:DEP.install-out.txt --library=/Library/Frameworks/R.framework/Resources/library --no-vignettes --timings DEP_1.32.0.tar.gz StartedAt: 2025-11-03 20:43:35 -0500 (Mon, 03 Nov 2025) EndedAt: 2025-11-03 20:52:06 -0500 (Mon, 03 Nov 2025) EllapsedTime: 511.6 seconds RetCode: 0 Status: OK CheckDir: DEP.Rcheck Warnings: 0