Package: DEP Version: 1.32.0 Command: /Library/Frameworks/R.framework/Resources/bin/R CMD check --install=check:DEP.install-out.txt --library=/Library/Frameworks/R.framework/Resources/library --no-vignettes --timings DEP_1.32.0.tar.gz StartedAt: 2025-11-04 19:26:20 -0500 (Tue, 04 Nov 2025) EndedAt: 2025-11-04 19:28:59 -0500 (Tue, 04 Nov 2025) EllapsedTime: 158.9 seconds RetCode: 0 Status: OK CheckDir: DEP.Rcheck Warnings: 0