Package: DELocal Version: 1.8.0 Command: /Library/Frameworks/R.framework/Resources/bin/R CMD check --install=check:DELocal.install-out.txt --library=/Library/Frameworks/R.framework/Resources/library --no-vignettes --timings DELocal_1.8.0.tar.gz StartedAt: 2025-09-09 18:31:05 -0400 (Tue, 09 Sep 2025) EndedAt: 2025-09-09 18:34:27 -0400 (Tue, 09 Sep 2025) EllapsedTime: 202.5 seconds RetCode: 0 Status: OK CheckDir: DELocal.Rcheck Warnings: 0