Package: DEGreport Version: 1.44.0 Command: /home/biocbuild/bbs-3.21-bioc/R/bin/R CMD build --keep-empty-dirs --no-resave-data DEGreport StartedAt: 2025-10-15 17:08:32 -0400 (Wed, 15 Oct 2025) EndedAt: 2025-10-15 17:09:18 -0400 (Wed, 15 Oct 2025) EllapsedTime: 46.0 seconds RetCode: 1 Status: ERROR PackageFile: None PackageFileSize: NA