Package: DEGreport Version: 1.44.0 Command: rm -rf DEGreport.buildbin-libdir && mkdir DEGreport.buildbin-libdir && /Users/biocbuild/BBS/utils/build-universal.sh DEGreport_1.44.0.tar.gz /Library/Frameworks/R.framework/Resources/bin/R DEGreport.buildbin-libdir StartedAt: 2025-04-21 22:32:26 -0400 (Mon, 21 Apr 2025) EndedAt: 2025-04-21 22:32:40 -0400 (Mon, 21 Apr 2025) EllapsedTime: 14.3 seconds RetCode: 0 Status: OK PackageFile: DEGreport_1.44.0.tgz PackageFileSize: 3.325 MiB