Package: DEFormats Version: 1.37.0 Command: /home/biocbuild/R/R/bin/R CMD check --install=check:DEFormats.install-out.txt --library=/home/biocbuild/R/R/site-library --no-vignettes --timings DEFormats_1.37.0.tar.gz StartedAt: 2025-10-21 07:15:32 -0000 (Tue, 21 Oct 2025) EndedAt: 2025-10-21 07:19:39 -0000 (Tue, 21 Oct 2025) EllapsedTime: 247.1 seconds RetCode: 0 Status: OK CheckDir: DEFormats.Rcheck Warnings: 0