Package: DEFormats Version: 1.38.0 Command: /Library/Frameworks/R.framework/Resources/bin/R CMD check --install=check:DEFormats.install-out.txt --library=/Library/Frameworks/R.framework/Resources/library --no-vignettes --timings DEFormats_1.38.0.tar.gz StartedAt: 2025-11-03 20:39:20 -0500 (Mon, 03 Nov 2025) EndedAt: 2025-11-03 20:42:50 -0500 (Mon, 03 Nov 2025) EllapsedTime: 209.5 seconds RetCode: 0 Status: OK CheckDir: DEFormats.Rcheck Warnings: 0