Package: DECIPHER Version: 3.5.1 Command: /home/biocbuild/R/R/bin/R CMD check --install=check:DECIPHER.install-out.txt --library=/home/biocbuild/R/R/site-library --no-vignettes --timings DECIPHER_3.5.1.tar.gz StartedAt: 2025-10-21 07:11:55 -0000 (Tue, 21 Oct 2025) EndedAt: 2025-10-21 07:32:26 -0000 (Tue, 21 Oct 2025) EllapsedTime: 1230.8 seconds RetCode: 0 Status: OK CheckDir: DECIPHER.Rcheck Warnings: 0