Package: DECIPHER Version: 3.6.0 Command: /home/biocbuild/bbs-3.22-bioc/R/bin/R CMD INSTALL DECIPHER StartedAt: 2025-11-06 15:33:23 -0500 (Thu, 06 Nov 2025) EndedAt: 2025-11-06 15:34:23 -0500 (Thu, 06 Nov 2025) EllapsedTime: 59.9 seconds RetCode: 0 Status: OK