Package: DECIPHER Version: 3.6.0 Command: /home/biocbuild/bbs-3.22-bioc/R/bin/R CMD build --keep-empty-dirs --no-resave-data --md5 DECIPHER StartedAt: 2025-11-06 17:12:03 -0500 (Thu, 06 Nov 2025) EndedAt: 2025-11-06 17:31:28 -0500 (Thu, 06 Nov 2025) EllapsedTime: 1164.0 seconds RetCode: 0 Status: OK PackageFile: DECIPHER_3.6.0.tar.gz PackageFileSize: 17.86 MiB