Package: DECIPHER Version: 3.4.0 Command: /Library/Frameworks/R.framework/Resources/bin/R CMD INSTALL DECIPHER StartedAt: 2025-10-13 15:58:23 -0400 (Mon, 13 Oct 2025) EndedAt: 2025-10-13 16:00:28 -0400 (Mon, 13 Oct 2025) EllapsedTime: 124.5 seconds RetCode: 0 Status: OK