Package: DCATS Version: 1.8.0 Command: /home/biocbuild/R/R/bin/R CMD check --install=check:DCATS.install-out.txt --library=/home/biocbuild/R/R/site-library --no-vignettes --timings DCATS_1.8.0.tar.gz StartedAt: 2025-11-18 08:53:48 -0000 (Tue, 18 Nov 2025) EndedAt: 2025-11-18 08:56:00 -0000 (Tue, 18 Nov 2025) EllapsedTime: 132.1 seconds RetCode: 0 Status: OK CheckDir: DCATS.Rcheck Warnings: 0