Package: DCATS Version: 1.8.0 Command: /home/biocbuild/R/R/bin/R CMD build --keep-empty-dirs --no-resave-data DCATS StartedAt: 2025-11-18 00:57:26 -0000 (Tue, 18 Nov 2025) EndedAt: 2025-11-18 00:57:45 -0000 (Tue, 18 Nov 2025) EllapsedTime: 19.0 seconds RetCode: 0 Status: OK PackageFile: DCATS_1.8.0.tar.gz PackageFileSize: 2.861 MiB