Package: DCATS Version: 1.6.0 Command: E:\biocbuild\bbs-3.21-bioc\R\bin\R.exe CMD INSTALL DCATS StartedAt: 2025-08-14 15:24:04 -0400 (Thu, 14 Aug 2025) EndedAt: 2025-08-14 15:24:23 -0400 (Thu, 14 Aug 2025) EllapsedTime: 19.7 seconds RetCode: 0 Status: OK