Package: DCATS Version: 1.6.0 Command: chmod a+r DCATS -R && E:\biocbuild\bbs-3.21-bioc\R\bin\R.exe CMD build --keep-empty-dirs --no-resave-data DCATS StartedAt: 2025-08-14 18:25:57 -0400 (Thu, 14 Aug 2025) EndedAt: 2025-08-14 18:26:17 -0400 (Thu, 14 Aug 2025) EllapsedTime: 20.0 seconds RetCode: 0 Status: OK PackageFile: DCATS_1.6.0.tar.gz PackageFileSize: 2.836 MiB