Package: DCATS Version: 1.6.0 Command: /home/biocbuild/bbs-3.21-bioc/R/bin/R CMD check --install=check:DCATS.install-out.txt --library=/home/biocbuild/bbs-3.21-bioc/R/site-library --timings DCATS_1.6.0.tar.gz StartedAt: 2025-09-28 22:33:46 -0400 (Sun, 28 Sep 2025) EndedAt: 2025-09-28 22:35:26 -0400 (Sun, 28 Sep 2025) EllapsedTime: 99.1 seconds RetCode: 0 Status: OK CheckDir: DCATS.Rcheck Warnings: 0