Package: DCATS Version: 1.6.0 Command: /home/biocbuild/R/R/bin/R CMD build --keep-empty-dirs --no-resave-data DCATS StartedAt: 2025-09-30 00:07:16 -0000 (Tue, 30 Sep 2025) EndedAt: 2025-09-30 00:07:35 -0000 (Tue, 30 Sep 2025) EllapsedTime: 19.0 seconds RetCode: 0 Status: OK PackageFile: DCATS_1.6.0.tar.gz PackageFileSize: 2.862 MiB