Package: DCATS Version: 1.6.0 Command: /Library/Frameworks/R.framework/Resources/bin/R CMD build --keep-empty-dirs --no-resave-data DCATS StartedAt: 2025-04-21 16:05:59 -0400 (Mon, 21 Apr 2025) EndedAt: 2025-04-21 16:06:06 -0400 (Mon, 21 Apr 2025) EllapsedTime: 7.1 seconds RetCode: 0 Status: OK PackageFile: DCATS_1.6.0.tar.gz PackageFileSize: 2.836 MiB