Package: DAMEfinder Version: 1.20.0 Command: /Library/Frameworks/R.framework/Resources/bin/R CMD build --keep-empty-dirs --no-resave-data DAMEfinder StartedAt: 2025-10-13 18:21:25 -0400 (Mon, 13 Oct 2025) EndedAt: 2025-10-13 18:26:41 -0400 (Mon, 13 Oct 2025) EllapsedTime: 315.9 seconds RetCode: 0 Status: OK PackageFile: DAMEfinder_1.20.0.tar.gz PackageFileSize: 4.953 MiB