Package: CytoGLMM Version: 1.16.1 Command: /Library/Frameworks/R.framework/Resources/bin/R CMD INSTALL CytoGLMM StartedAt: 2025-10-13 15:19:19 -0400 (Mon, 13 Oct 2025) EndedAt: 2025-10-13 15:20:05 -0400 (Mon, 13 Oct 2025) EllapsedTime: 45.6 seconds RetCode: 0 Status: OK