Package: CytoGLMM Version: 1.16.1 Command: /Library/Frameworks/R.framework/Resources/bin/R CMD check --install=check:CytoGLMM.install-out.txt --library=/Library/Frameworks/R.framework/Resources/library --no-vignettes --timings CytoGLMM_1.16.1.tar.gz StartedAt: 2025-10-14 02:20:21 -0400 (Tue, 14 Oct 2025) EndedAt: 2025-10-14 02:24:38 -0400 (Tue, 14 Oct 2025) EllapsedTime: 256.1 seconds RetCode: 0 Status: OK CheckDir: CytoGLMM.Rcheck Warnings: 0