Package: CytoDx Version: 1.28.0 Command: rm -rf CytoDx.buildbin-libdir && mkdir CytoDx.buildbin-libdir && E:\biocbuild\bbs-3.21-bioc\R\bin\R.exe CMD INSTALL --build --library=CytoDx.buildbin-libdir CytoDx_1.28.0.tar.gz StartedAt: 2025-08-15 09:05:42 -0400 (Fri, 15 Aug 2025) EndedAt: 2025-08-15 09:06:01 -0400 (Fri, 15 Aug 2025) EllapsedTime: 18.9 seconds RetCode: 0 Status: OK PackageFile: CytoDx_1.28.0.zip PackageFileSize: 563.7 KiB