Package: CytoDx Version: 1.28.0 Command: /Library/Frameworks/R.framework/Resources/bin/R CMD check --install=check:CytoDx.install-out.txt --library=/Library/Frameworks/R.framework/Resources/library --no-vignettes --timings CytoDx_1.28.0.tar.gz StartedAt: 2025-04-21 20:04:04 -0400 (Mon, 21 Apr 2025) EndedAt: 2025-04-21 20:05:37 -0400 (Mon, 21 Apr 2025) EllapsedTime: 93.4 seconds RetCode: 0 Status: OK CheckDir: CytoDx.Rcheck Warnings: 0