Package: CrispRVariants Version: 1.37.0 Command: /home/biocbuild/R/R/bin/R CMD check --install=check:CrispRVariants.install-out.txt --library=/home/biocbuild/R/R/site-library --no-vignettes --timings CrispRVariants_1.37.0.tar.gz StartedAt: 2025-10-21 06:56:30 -0000 (Tue, 21 Oct 2025) EndedAt: 2025-10-21 07:03:06 -0000 (Tue, 21 Oct 2025) EllapsedTime: 396.3 seconds RetCode: 0 Status: WARNINGS CheckDir: CrispRVariants.Rcheck Warnings: 2