Package: CrispRVariants Version: 1.37.0 Command: /home/biocbuild/R/R/bin/R CMD build --keep-empty-dirs --no-resave-data CrispRVariants StartedAt: 2025-10-20 23:01:24 -0000 (Mon, 20 Oct 2025) EndedAt: 2025-10-20 23:04:37 -0000 (Mon, 20 Oct 2025) EllapsedTime: 193.1 seconds RetCode: 0 Status: OK PackageFile: CrispRVariants_1.37.0.tar.gz PackageFileSize: 2.196 MiB