Package: CrispRVariants Version: 1.38.0 Command: /home/biocbuild/bbs-3.22-bioc/R/bin/R CMD check --install=check:CrispRVariants.install-out.txt --library=/home/biocbuild/bbs-3.22-bioc/R/site-library --timings CrispRVariants_1.38.0.tar.gz StartedAt: 2025-11-06 22:28:19 -0500 (Thu, 06 Nov 2025) EndedAt: 2025-11-06 22:34:55 -0500 (Thu, 06 Nov 2025) EllapsedTime: 396.3 seconds RetCode: 0 Status: WARNINGS CheckDir: CrispRVariants.Rcheck Warnings: 2