Package: CoreGx Version: 2.14.0 Command: /home/biocbuild/bbs-3.22-bioc/R/bin/R CMD build --keep-empty-dirs --no-resave-data --md5 CoreGx StartedAt: 2025-11-17 20:19:45 -0500 (Mon, 17 Nov 2025) EndedAt: 2025-11-17 20:20:46 -0500 (Mon, 17 Nov 2025) EllapsedTime: 61.1 seconds RetCode: 0 Status: OK PackageFile: CoreGx_2.14.0.tar.gz PackageFileSize: 1.369 MiB