Package: CompoundDb Version: 1.13.0 Command: F:\biocbuild\bbs-3.22-bioc\R\bin\R.exe CMD check --no-multiarch --install=check:CompoundDb.install-out.txt --library=F:\biocbuild\bbs-3.22-bioc\R\library --no-vignettes --timings CompoundDb_1.13.0.tar.gz StartedAt: 2025-08-15 01:53:44 -0400 (Fri, 15 Aug 2025) EndedAt: 2025-08-15 02:00:02 -0400 (Fri, 15 Aug 2025) EllapsedTime: 377.2 seconds RetCode: 0 Status: OK CheckDir: CompoundDb.Rcheck Warnings: 0