Package: ComPrAn Version: 1.16.0 Command: rm -rf ComPrAn.buildbin-libdir && mkdir ComPrAn.buildbin-libdir && E:\biocbuild\bbs-3.21-bioc\R\bin\R.exe CMD INSTALL --build --library=ComPrAn.buildbin-libdir ComPrAn_1.16.0.tar.gz StartedAt: 2025-08-15 09:02:34 -0400 (Fri, 15 Aug 2025) EndedAt: 2025-08-15 09:03:04 -0400 (Fri, 15 Aug 2025) EllapsedTime: 29.1 seconds RetCode: 0 Status: OK PackageFile: ComPrAn_1.16.0.zip PackageFileSize: 2.257 MiB