Package: Cogito Version: 1.15.2 Command: rm -rf Cogito.buildbin-libdir && mkdir Cogito.buildbin-libdir && F:\biocbuild\bbs-3.22-bioc\R\bin\R.exe CMD INSTALL --build --library=Cogito.buildbin-libdir Cogito_1.15.2.tar.gz StartedAt: 2025-08-15 10:00:14 -0400 (Fri, 15 Aug 2025) EndedAt: 2025-08-15 10:01:05 -0400 (Fri, 15 Aug 2025) EllapsedTime: 51.1 seconds RetCode: 0 Status: OK PackageFile: Cogito_1.15.2.zip PackageFileSize: 1.223 MiB