Package: Cogito Version: 1.16.0 Command: /home/biocbuild/bbs-3.22-bioc/R/bin/R CMD INSTALL Cogito StartedAt: 2025-11-06 15:43:14 -0500 (Thu, 06 Nov 2025) EndedAt: 2025-11-06 15:43:57 -0500 (Thu, 06 Nov 2025) EllapsedTime: 42.1 seconds RetCode: 0 Status: OK