Package: Cogito Version: 1.16.0 Command: /Library/Frameworks/R.framework/Resources/bin/R CMD check --install=check:Cogito.install-out.txt --library=/Library/Frameworks/R.framework/Resources/library --no-vignettes --timings Cogito_1.16.0.tar.gz StartedAt: 2025-11-03 20:19:31 -0500 (Mon, 03 Nov 2025) EndedAt: 2025-11-03 20:24:34 -0500 (Mon, 03 Nov 2025) EllapsedTime: 302.8 seconds RetCode: 0 Status: OK CheckDir: Cogito.Rcheck Warnings: 0